BEGIN:VCALENDAR
VERSION:2.0
PRODID:-//ChamberMaster//Event Calendar 2.0//EN
METHOD:PUBLISH
X-PUBLISHED-TTL:P3D
REFRESH-INTERVAL:P3D
CALSCALE:GREGORIAN
BEGIN:VEVENT
DTSTART:20230729T114500Z
DTEND:20230729T150000Z
X-MICROSOFT-CDO-ALLDAYEVENT:FALSE
SUMMARY:Join us for Oakland Family Services 5K/1K Fun Run!
DESCRIPTION:Join Oakland Family Services for our Fun Run to celebrate building brighter futures for individuals and families in our community! Participants can choose to walk or run the 5K race (3.1 miles) or take part in the 1K race (less than a mile). Race fees to enter the 5K and 1K are $35 and $25 respectively AND kids 5 and under are free. Packet pick up will start at 7:45 a.m. with the races beginning at 8:45 a.m. with remarks from Oakland Family Services President and CEO Jaimie Clayton. A brief awards ceremony will follow the races. Family-friendly activities will be happening near the Paradise Peninsula Playscape and Activity Center! Register today for this special event online or contact Katie Henwood at khenwood@ofsfamily.org or 248.858.7766 ext. 1218 with questions.
X-ALT-DESC;FMTTYPE=text/html:<span style="background-color:rgb(250\, 250\, 250)\; color:rgb(0\, 0\, 0)\; font-family:arial\,helvetica\,sans-serif\; font-size:12px">Join Oakland Family Services for our Fun Run to celebrate building brighter futures for individuals and families in our community! Participants can choose to walk or run the 5K race (3.1 miles) or take part in the 1K race (less than a mile). Race fees to enter the 5K and 1K are $35 and $25 respectively AND kids 5 and under are free. Packet pick up will start at 7:45 a.m. with the races beginning at 8:45 a.m. with remarks from Oakland Family Services President and CEO Jaimie Clayton. A brief awards ceremony will follow the races. Family-friendly activities will be happening near the Paradise Peninsula Playscape and Activity Center! Register today for this special event online or contact Katie Henwood at khenwood@ofsfamily.org or 248.858.7766 ext. 1218 with questions.</span>
LOCATION:Waterford Oaks County Park 1702 Scott Lake Road\, Waterford\, MI 48328 Near the Paradise Peninsula Playscape and Activity Center
UID:e.2933.4142
SEQUENCE:3
DTSTAMP:20260423T203151Z
URL:http://royaloakchamber.smartcms.site/events/details/join-us-for-oakland-family-services-5k-1k-fun-run-4142
END:VEVENT

END:VCALENDAR
