BEGIN:VCALENDAR
VERSION:2.0
PRODID:-//ChamberMaster//Event Calendar 2.0//EN
METHOD:PUBLISH
X-PUBLISHED-TTL:P3D
REFRESH-INTERVAL:P3D
CALSCALE:GREGORIAN
BEGIN:VEVENT
DTSTART:20250117T000000Z
DTEND:20250117T013000Z
X-MICROSOFT-CDO-ALLDAYEVENT:FALSE
SUMMARY:January Bingo Night
DESCRIPTION:Get ready for a festive and fun-filled January Bingo Night!\n\nGather your friends and family for an evening of laughter\, joy\, and exciting bingo games!\n\nAll ages are welcome!\n\nYes\, there are plenty of prizes!\n\nEach person receives one bingo card\n\nThere is no fee to play\n\nWe will be accepting very limited reservations
X-ALT-DESC;FMTTYPE=text/html:<div>Get ready for a festive and fun-filled January Bingo Night!</div>\n\n<div>Gather your friends and family for an evening of laughter\, joy\, and exciting bingo games!</div>\n\n<div>All ages are welcome!</div>\n\n<div>Yes\, there are plenty of prizes!</div>\n\n<div>Each person receives one bingo card</div>\n\n<div>There is no fee to play</div>\n\n<div>We will be accepting very limited reservations</div>\n
LOCATION:30955 Woodward Ave.\, Royal Oak\, MI\, United States\, Michigan 48073
UID:e.2933.4646
SEQUENCE:3
DTSTAMP:20260419T150954Z
URL:http://royaloakchamber.smartcms.site/events/details/january-bingo-night-4646
END:VEVENT

END:VCALENDAR
