BEGIN:VCALENDAR
VERSION:2.0
PRODID:-//ChamberMaster//Event Calendar 2.0//EN
METHOD:PUBLISH
X-PUBLISHED-TTL:P3D
REFRESH-INTERVAL:P3D
CALSCALE:GREGORIAN
BEGIN:VEVENT
DTSTART:20201021T140000Z
DTEND:20201021T150000Z
X-MICROSOFT-CDO-ALLDAYEVENT:FALSE
SUMMARY:It’s in Your Hands: Technology is Taking Over
DESCRIPTION:Oakland County Financial Coaching Program Webinars Administered by Oakland County Michigan Works! and hosted by professionals from the Oakland Livingston Human Service Agency It's in Your Hands Technology is taking over.   Learn apps that allow you to make life easier   Learn ways to budget and invest   Learn about tools that can put all financial resources together Questions? Contact: oaklandcountymiworks@oakgov.com
X-ALT-DESC;FMTTYPE=text/html:Oakland County Financial Coaching Program Webinars Administered by Oakland County Michigan Works! and hosted by professionals from the Oakland Livingston Human Service Agency It&rsquo\;s in Your Hands Technology is taking over. &bull\; Learn apps that allow you to make life easier &bull\; Learn ways to budget and invest &bull\; Learn about tools that can put all financial resources together Questions? Contact: oaklandcountymiworks@oakgov.com
LOCATION:Webinar
UID:e.2933.3387
SEQUENCE:3
DTSTAMP:20260425T231021Z
URL:http://royaloakchamber.smartcms.site/events/details/it-s-in-your-hands-technology-is-taking-over-3387
END:VEVENT

END:VCALENDAR
