BEGIN:VCALENDAR
VERSION:2.0
PRODID:-//ChamberMaster//Event Calendar 2.0//EN
METHOD:PUBLISH
X-PUBLISHED-TTL:P3D
REFRESH-INTERVAL:P3D
CALSCALE:GREGORIAN
BEGIN:VEVENT
DTSTART:20250311T220000Z
DTEND:20250312T000000Z
X-MICROSOFT-CDO-ALLDAYEVENT:FALSE
SUMMARY:Iron Fish Distillery Bourbon Pairing
DESCRIPTION:Join us for a delicious four-course meal paired with select bourbons from our friends at Iron Fish Distillery!\n\n \n\nEach course will showcase a unique creation from our chef\, crafted to complement excellently with one of Iron Fish's Bourbons!\n\n \n\nDon't miss this opportunity to enjoy a fun evening of delicious food and fine spirits with Iron Fish Distillery!\n\n \n\nThere is limited tickets available for this event\, so don't wait long to get yours!\n\n \n\n \n\nNo refunds 48 hours before the event and no dietary substitutions
X-ALT-DESC;FMTTYPE=text/html:<div>Join us for a delicious four-course meal paired with select bourbons from our friends at Iron Fish Distillery!<br />\n&nbsp\;</div>\n\n<div>Each course will showcase a unique creation from our chef\, crafted to complement excellently with one of Iron Fish&rsquo\;s Bourbons!<br />\n&nbsp\;</div>\n\n<div>Don&#39\;t miss this opportunity to enjoy a fun evening of delicious food and fine spirits with Iron Fish Distillery!<br />\n&nbsp\;</div>\n\n<div>There is limited tickets available for this event\, so don&#39\;t wait long to get yours!</div>\n\n<div>&nbsp\;</div>\n\n<div>&nbsp\;</div>\n\n<div>No refunds 48 hours before the event and no dietary substitutions</div>\n
LOCATION:30955 Woodward Ave.\, Royal Oak\, MI\, United States\, Michigan 48073
UID:e.2933.4728
SEQUENCE:3
DTSTAMP:20260419T121108Z
URL:http://royaloakchamber.smartcms.site/events/details/iron-fish-distillery-bourbon-pairing-4728
END:VEVENT

END:VCALENDAR
