BEGIN:VCALENDAR
VERSION:2.0
PRODID:-//ChamberMaster//Event Calendar 2.0//EN
METHOD:PUBLISH
X-PUBLISHED-TTL:P3D
REFRESH-INTERVAL:P3D
CALSCALE:GREGORIAN
BEGIN:VEVENT
DTSTART:20220228T170000Z
DTEND:20220228T180000Z
X-MICROSOFT-CDO-ALLDAYEVENT:FALSE
SUMMARY:Improving Your Credit Score
DESCRIPTION:ROYAL (Royal Oak Young Ambitious Leaders) presents: Improving Your Credit Score.\n\n\n\nPresented by: Ngoc Do\, Community Engagement Specialist with Vibe Credit Union along with special guest speaker Krystie Pung\, Loan Specialist.\n\n\n\nThis webinar is geared towards our young professionals within our Chamber and neighboring Chambers! However\, we encourage all members to join the webinar if this topic speaks to you!\n\n\n\nOne lucky attendee will win a $50 gift card to Motor City Gas in Royal Oak!
X-ALT-DESC;FMTTYPE=text/html:<br />\nROYAL (Royal Oak Young Ambitious Leaders) presents: <em>Improving Your Credit Score.</em><br />\n<br />\n<strong>Presented by: Ngoc Do\, Community Engagement Specialist with Vibe Credit Union along with special guest speaker Krystie Pung\, Loan Specialist.</strong><br />\n<br />\nThis webinar is geared towards our young professionals within our Chamber and neighboring Chambers! However\, we encourage all members to join the webinar if this topic speaks to you!<br />\n<br />\nOne lucky attendee will win a $50 gift card to Motor City Gas in Royal Oak!
LOCATION:Zoom Presentation Link to be emailed out the afternoon of Friday\, February 25
UID:e.2933.3914
SEQUENCE:3
DTSTAMP:20260424T132226Z
URL:http://royaloakchamber.smartcms.site/events/details/improving-your-credit-score-3914
END:VEVENT

END:VCALENDAR
