BEGIN:VCALENDAR
VERSION:2.0
PRODID:-//ChamberMaster//Event Calendar 2.0//EN
METHOD:PUBLISH
X-PUBLISHED-TTL:P3D
REFRESH-INTERVAL:P3D
CALSCALE:GREGORIAN
BEGIN:VEVENT
DTSTART:20250222T190000Z
DTEND:20250223T000000Z
X-MICROSOFT-CDO-ALLDAYEVENT:FALSE
SUMMARY:Ice Festival Day One
DESCRIPTION:Join us for our 2025 Ice Festival on our fabulous outdoor patio!\n\n\n\nThis year we are doing a 2 day event!\n\n\n\nMark your calendars for Saturday and Sunday\, February 22nd-23rd\, for two days packed with fun and excitement!\n\n\n\nWe'll be lighting up the fire pits for you to enjoy beautiful ice-carved sculptures!\n\n\n\nEnjoy our ice sculptures\, hot coffee\, a deluxe hot chocolate bar\, and rare beers!\n\n\n\nThis event is family-friendly and FREE to attend\, making it perfect for all ages! Free parking!\n\n\n\nOn day one\, February 22nd\, from 2-7 PM\, we will feature ice sculptures\, an assortment of rare beers\, a hot chocolate bar\, hot coffee\, and hot cider!\n\n\n\nOn the second day of our event\, February 23rd\, join us for brunch! Enjoy our brunch specials\, where kids can enjoy a free kid's brunch dish with the purchase of any adult entr e! (11-3 only) Don't miss the chance to admire our ice sculptures\, join us for Marvel-themed trivia starting at 2 PM\, meet Spidey Hero from the Marvel Universe from 1:30-2:30\, and join us for bingo starting at 6 PM!\n\n\n\nPlease note that brunch is available from 11 AM - 3 PM\n\n\n\nWe can't wait to see you there!
X-ALT-DESC;FMTTYPE=text/html:<span style="font-family:roboto\,helvetica neue\,arial\,sans-serif\; font-size:14px">Join us for our 2025 Ice Festival on our fabulous outdoor patio!<br />\n<br />\nThis year we are doing a 2 day event!<br />\n<br />\nMark your calendars for Saturday and Sunday\, February 22nd-23rd\, for two days packed with fun and excitement!<br />\n<br />\nWe&rsquo\;ll be lighting up the fire pits for you to enjoy beautiful ice-carved sculptures!<br />\n<br />\nEnjoy our ice sculptures\, hot coffee\, a deluxe hot chocolate bar\, and rare beers!<br />\n<br />\nThis event is family-friendly and FREE to attend\, making it perfect for all ages! Free parking!<br />\n<br />\nOn day one\, February 22nd\, from 2-7 PM\, we will feature ice sculptures\, an assortment of rare beers\, a hot chocolate bar\, hot coffee\, and hot cider!<br />\n<br />\nOn the second day of our event\, February 23rd\, join us for brunch! Enjoy our brunch specials\, where kids can enjoy a free kid&#39\;s brunch dish with the purchase of any adult entr&eacute\;e! (11-3 only) Don&#39\;t miss the chance to admire our ice sculptures\, join us for Marvel-themed trivia starting at 2 PM\, meet Spidey Hero from the Marvel Universe from 1:30-2:30\, and join us for bingo starting at 6 PM!<br />\n<br />\nPlease note that brunch is available from 11 AM - 3 PM<br />\n<br />\nWe can&#39\;t wait to see you there!</span>
LOCATION:30955 Woodward Ave.\, Royal Oak\, MI\, United States\, Michigan 48073
UID:e.2933.4719
SEQUENCE:3
DTSTAMP:20260419T133152Z
URL:http://royaloakchamber.smartcms.site/events/details/ice-festival-day-one-02-22-2025-4719
END:VEVENT

END:VCALENDAR
