BEGIN:VCALENDAR
VERSION:2.0
PRODID:-//ChamberMaster//Event Calendar 2.0//EN
METHOD:PUBLISH
X-PUBLISHED-TTL:P3D
REFRESH-INTERVAL:P3D
CALSCALE:GREGORIAN
BEGIN:VEVENT
DTSTART:20250223T160000Z
DTEND:20250223T230000Z
X-MICROSOFT-CDO-ALLDAYEVENT:FALSE
SUMMARY:Ice Fest Day Two
DESCRIPTION:This is day two of our Ice Fest 2025 event!\n\n\n\nFebruary 23rd join us for brunch!\n\n\n\nEnjoy our brunch specials\, where kids can enjoy a free kid's brunch dish with the purchase of any adult entr e! (11-3 only) Don't miss the chance to admire our ice sculptures\, join us for Marvel-themed trivia starting at 2 PM\, meet Spidey Hero from the Marvel Universe from 1:30-2:30\, and join us for bingo starting at 6 PM!\n\n\n\nPlease note that brunch is available from 11 AM - 3 PM\n\n\n\nWe can't wait to see you there!
X-ALT-DESC;FMTTYPE=text/html:<span style="font-family:roboto\,helvetica neue\,arial\,sans-serif\; font-size:14px">This is day two of our Ice Fest 2025 event!<br />\n<br />\nFebruary 23rd join us for brunch!<br />\n<br />\nEnjoy our brunch specials\, where kids can enjoy a free kid&#39\;s brunch dish with the purchase of any adult entr&eacute\;e! (11-3 only) Don&#39\;t miss the chance to admire our ice sculptures\, join us for Marvel-themed trivia starting at 2 PM\, meet Spidey Hero from the Marvel Universe from 1:30-2:30\, and join us for bingo starting at 6 PM!<br />\n<br />\nPlease note that brunch is available from 11 AM - 3 PM<br />\n<br />\nWe can&#39\;t wait to see you there!</span>
LOCATION:30955 Woodward Ave.\, Royal Oak\, MI\, United States\, Michigan 48073
UID:e.2933.4720
SEQUENCE:3
DTSTAMP:20260419T132800Z
URL:http://royaloakchamber.smartcms.site/events/details/ice-fest-day-two-4720
END:VEVENT

END:VCALENDAR
