BEGIN:VCALENDAR
VERSION:2.0
PRODID:-//ChamberMaster//Event Calendar 2.0//EN
METHOD:PUBLISH
X-PUBLISHED-TTL:P3D
REFRESH-INTERVAL:P3D
CALSCALE:GREGORIAN
BEGIN:VEVENT
DTSTART:20200917T040000Z
DTEND:20200917T160000Z
X-MICROSOFT-CDO-ALLDAYEVENT:FALSE
SUMMARY:How to Write A Business Plan in The New Economy
DESCRIPTION:So\, you've decided that it's finally time to write that business plan everyone says you need. Excited? Dreading it? Un-motivated? Not sure where to start? Confused? We can help! Follow along with our step by step approach. Prepare a business plan that gives your business direction\, defines your objectives\, maps out strategies to achieve your goals and helps you to manage possible bumps in the road. This workshop is designed for entrepreneurs who are interested in writing their first business plan or want to improve a plan to get their business to the next level. This workshop is for existing and startup businesses.
X-ALT-DESC;FMTTYPE=text/html:So\, you&rsquo\;ve decided that it&rsquo\;s finally time to write that business plan everyone says you need. Excited? Dreading it? Un-motivated? Not sure where to start? Confused? We can help! Follow along with our step by step approach. Prepare a business plan that gives your business direction\, defines your objectives\, maps out strategies to achieve your goals and helps you to manage possible bumps in the road. This workshop is designed for entrepreneurs who are interested in writing their first business plan or want to improve a plan to get their business to the next level. This workshop is for existing and startup businesses.
LOCATION:Webinar
UID:e.2933.3363
SEQUENCE:3
DTSTAMP:20260425T231359Z
URL:http://royaloakchamber.smartcms.site/events/details/how-to-write-a-business-plan-in-the-new-economy-09-17-2020-3363
END:VEVENT

END:VCALENDAR
