BEGIN:VCALENDAR
VERSION:2.0
PRODID:-//ChamberMaster//Event Calendar 2.0//EN
METHOD:PUBLISH
X-PUBLISHED-TTL:P3D
REFRESH-INTERVAL:P3D
CALSCALE:GREGORIAN
BEGIN:VEVENT
DTSTART:20241203T220000Z
DTEND:20241204T010000Z
X-MICROSOFT-CDO-ALLDAYEVENT:FALSE
SUMMARY:Holiday Soiree
DESCRIPTION:Presented by Citizens State Bank!\n\n\n\nJoin us at 526 Main Dueling Piano Bar to close out the year! The ROCC has reserved 526 just for our members! Appetizer buffet and piano show are included in the ticket price. We encourage you to invite your co-workers and spouses and join us for a night of cheers!\n\n\n\nThe event registration will close once we've reached 100 members. If you are interested in joining us\, don't wait to RSVP!
X-ALT-DESC;FMTTYPE=text/html:<span style="font-size:22px\;"><strong><a href="https://www.micsb.com/"><span style="color:#008000\;">Presented by Citizens State Bank!</span></a></strong></span><br />\n<br />\nJoin us at 526 Main Dueling Piano Bar to close out the year! The ROCC has reserved 526 just for our members! Appetizer buffet and piano show are included in the ticket price. We encourage you to invite your co-workers and spouses and join us for a night of cheers!<br />\n<br />\nThe event registration will close once we&#39\;ve reached 100 members. If you are interested in joining us\, don&#39\;t wait to RSVP!&nbsp\;<br />\n<br />\n&nbsp\;
LOCATION:526 Main Dueling Piano Bar 526 Main St. Royal Oak\, MI 48067
UID:e.2933.4566
SEQUENCE:3
DTSTAMP:20260423T174927Z
URL:http://royaloakchamber.smartcms.site/events/details/holiday-soiree-4566
END:VEVENT

END:VCALENDAR
