BEGIN:VCALENDAR
VERSION:2.0
PRODID:-//ChamberMaster//Event Calendar 2.0//EN
METHOD:PUBLISH
X-PUBLISHED-TTL:P3D
REFRESH-INTERVAL:P3D
CALSCALE:GREGORIAN
BEGIN:VEVENT
DTSTART:20231206T220000Z
DTEND:20231207T010000Z
X-MICROSOFT-CDO-ALLDAYEVENT:FALSE
SUMMARY:Holiday Soiree
DESCRIPTION:Presented by Corewell Health: Join us at 526 Main Dueling Piano Bar to close out the year! The ROCC has reserved 526 (upstairs) just for our members! Appetizer buffet and piano show are included in the ticket price.\n\n\n\nThanks to our Candy Cane Sponsors we will have 7 specialty drinks being offered on behalf of Citizens State Bank\, Premier Communications\, Baker College\, High Favor Insurance\, HR/Benepro\, Cornerstone Community Financial & Woodward Corner Market. Thank you to Rock on Third\, Patts Word Art & Trillium Team for your support at the Reindeer level! \n\n\n\nThe event registration will close once we've reached 100 members\, if you are interested in joining us\, please don't wait to register. \n\n\n\nThank you to our Presenting Sponsor Corewell Health!
X-ALT-DESC;FMTTYPE=text/html:Presented by Corewell Health: Join us at 526 Main Dueling Piano Bar to close out the year! The ROCC has reserved 526 (upstairs) just for our members! Appetizer buffet and piano show are included in the ticket price.<br />\n<br />\nThanks to our Candy Cane Sponsors we will have 7 specialty drinks being offered on behalf of Citizens State Bank\, Premier Communications\, Baker College\, High Favor Insurance\, HR/Benepro\, Cornerstone Community Financial &amp\; Woodward Corner Market. Thank you to Rock on Third\, Patts Word Art &amp\; Trillium Team for your support at the Reindeer level!&nbsp\;<br />\n<br />\nThe event registration will close once we&#39\;ve reached 100 members\, if you are interested in joining us\, please don&#39\;t wait to register.&nbsp\;<br />\n<br />\nThank you to our Presenting Sponsor Corewell Health!
LOCATION:526 Main Dueling Piano Bar 526 Main St. Royal Oak\, MI 48067
UID:e.2933.4176
SEQUENCE:3
DTSTAMP:20260422T161411Z
URL:http://royaloakchamber.smartcms.site/events/details/holiday-soiree-4176
END:VEVENT

END:VCALENDAR
