BEGIN:VCALENDAR
VERSION:2.0
PRODID:-//ChamberMaster//Event Calendar 2.0//EN
METHOD:PUBLISH
X-PUBLISHED-TTL:P3D
REFRESH-INTERVAL:P3D
CALSCALE:GREGORIAN
BEGIN:VEVENT
DTSTART:20220221T133000Z
DTEND:20220221T140000Z
X-MICROSOFT-CDO-ALLDAYEVENT:FALSE
SUMMARY:Henry Ford Health Systems & HAP Present: ROCC Walking Club
DESCRIPTION:Join the Chamber Ambassadors for our first walk of the year! We will be touring the South Oakland YMCA and then walking their indoor track.  Please meet at the YMCA at 8:30AM. We will NOT be meeting at the Chamber first.
X-ALT-DESC;FMTTYPE=text/html:<br />\n<span style="font-size: 12pt\; font-family: Arial\, sans-serif\;">Join the Chamber Ambassadors for our first walk of the year! We will be touring the South Oakland YMCA and then walking their indoor track.&nbsp\; Please meet at the YMCA at 8:30AM. We will NOT be meeting at the Chamber first.&nbsp\;</span>
LOCATION:South Oakland YMCA 1016 W. Eleven Mile Rd. Royal Oak\, MI 48067
UID:e.2933.3809
SEQUENCE:3
DTSTAMP:20260424T132525Z
URL:http://royaloakchamber.smartcms.site/events/details/henry-ford-health-systems-hap-present-rocc-walking-club-3809
END:VEVENT

END:VCALENDAR
