BEGIN:VCALENDAR
VERSION:2.0
PRODID:-//ChamberMaster//Event Calendar 2.0//EN
METHOD:PUBLISH
X-PUBLISHED-TTL:P3D
REFRESH-INTERVAL:P3D
CALSCALE:GREGORIAN
BEGIN:VEVENT
DTSTART:20221219T130000Z
DTEND:20221219T140000Z
X-MICROSOFT-CDO-ALLDAYEVENT:FALSE
SUMMARY:Henry Ford Health & HAP Present: ROCC Walking Club
DESCRIPTION:We invite our members to join the Chamber Ambassadors on the 3rd Monday of each month. We'll be walkin' and talkin' our way through various locations each month.
X-ALT-DESC;FMTTYPE=text/html:<span style="font-family: Arial\, sans-serif\; font-size: 16px\;">We invite our members to join the Chamber Ambassadors on the 3rd Monday of each month. We&#39\;ll be walkin&#39\; and talkin&#39\; our way through various locations each month.&nbsp\;</span>
LOCATION:
UID:e.2933.3935
SEQUENCE:3
DTSTAMP:20260424T100606Z
URL:http://royaloakchamber.smartcms.site/events/details/henry-ford-health-systems-hap-present-rocc-walking-club-12-19-2022-3935
END:VEVENT

END:VCALENDAR
