BEGIN:VCALENDAR
VERSION:2.0
PRODID:-//ChamberMaster//Event Calendar 2.0//EN
METHOD:PUBLISH
X-PUBLISHED-TTL:P3D
REFRESH-INTERVAL:P3D
CALSCALE:GREGORIAN
BEGIN:VEVENT
DTSTART:20221128T130000Z
DTEND:20221128T140000Z
X-MICROSOFT-CDO-ALLDAYEVENT:FALSE
SUMMARY:Henry Ford Health & HAP Present: ROCC Walking Club
DESCRIPTION:We invite our members to join the Chamber Ambassadors for the ROCC Walking Club! This month we will meet at the Chamber at 8:00AM and walk thru Centennial Park.
X-ALT-DESC;FMTTYPE=text/html:<span style="font-family: Arial\, sans-serif\; font-size: 16px\;">We invite our members to join the Chamber Ambassadors for the ROCC Walking Club! This month we will meet at the Chamber at 8:00AM and walk thru Centennial Park.&nbsp\;</span>
LOCATION:ROCC 200 S. Washington Ave. Royal Oak\, MI 48067 Please park in the structure across the street from the Chamber. FREE parking for the first 2 hours.
UID:e.2933.3934
SEQUENCE:3
DTSTAMP:20260424T084226Z
URL:http://royaloakchamber.smartcms.site/events/details/henry-ford-health-systems-hap-present-rocc-walking-club-11-21-2022-3934
END:VEVENT

END:VCALENDAR
