BEGIN:VCALENDAR
VERSION:2.0
PRODID:-//ChamberMaster//Event Calendar 2.0//EN
METHOD:PUBLISH
X-PUBLISHED-TTL:P3D
REFRESH-INTERVAL:P3D
CALSCALE:GREGORIAN
BEGIN:VEVENT
DTSTART:20220718T120000Z
DTEND:20220718T130000Z
X-MICROSOFT-CDO-ALLDAYEVENT:FALSE
SUMMARY:Henry Ford Health & HAP Present: ROCC Walking Club
DESCRIPTION:We invite our members to join the Chamber Ambassadors on the 3rd Monday of each month. We'll be walkin' and talkin' our way through various locations each month. \n\n\n\nOur July Walking Club is hosted by Woodward Corner Market! Meet us at the market for a walk and learn. We'll tour the store and learn about Meijer Woodward Corner's Dedication to Health & Wellness.
X-ALT-DESC;FMTTYPE=text/html:<span style="font-family: Arial\, sans-serif\; font-size: 16px\;">We invite our members to join the Chamber Ambassadors on the 3rd Monday of each month. We&#39\;ll be walkin&#39\; and talkin&#39\; our way through various locations each month.&nbsp\;<br />\n<br />\nOur July Walking Club is hosted by Woodward Corner Market! Meet us at the market for a walk and learn. We&#39\;ll tour the store and learn about Meijer Woodward Corner&#39\;s Dedication to Health &amp\; Wellness.&nbsp\;</span>
LOCATION:Woodward Corner Market 30955 Woodward Ave.\, Ste. 305 Royal Oak\, MI 48073
UID:e.2933.3930
SEQUENCE:3
DTSTAMP:20260424T043407Z
URL:http://royaloakchamber.smartcms.site/events/details/henry-ford-health-systems-hap-present-rocc-walking-club-07-18-2022-3930
END:VEVENT

END:VCALENDAR
