BEGIN:VCALENDAR
VERSION:2.0
PRODID:-//ChamberMaster//Event Calendar 2.0//EN
METHOD:PUBLISH
X-PUBLISHED-TTL:P3D
REFRESH-INTERVAL:P3D
CALSCALE:GREGORIAN
BEGIN:VEVENT
DTSTART:20220620T120000Z
DTEND:20220620T130000Z
X-MICROSOFT-CDO-ALLDAYEVENT:FALSE
SUMMARY:Henry Ford Health & HAP Present: ROCC Walking Club
DESCRIPTION:We invite our members to join the Chamber Ambassadors on the 3rd Monday of each month. We'll be walkin' and talkin' our way through various locations each month. Join us for June walk from the Chamber to Goldfish Tea for a tasting of teas and talk on health & wellness benefits of tea.
X-ALT-DESC;FMTTYPE=text/html:<span style="font-family: Arial\, sans-serif\; font-size: 16px\;">We invite our members to join the Chamber Ambassadors on the 3rd Monday of each month. We&#39\;ll be walkin&#39\; and talkin&#39\; our way through various locations each month. Join us for June walk from the Chamber to Goldfish Tea for a tasting of teas and talk on health &amp\; wellness benefits of tea.&nbsp\;</span>
LOCATION:June Walking Club will meet up at the Royal Oak Chamber\, then we'll head over to Goldfish Tea for a tasting and talk about the benefits of tea drinking.
UID:e.2933.3929
SEQUENCE:3
DTSTAMP:20260424T062150Z
URL:http://royaloakchamber.smartcms.site/events/details/henry-ford-health-systems-hap-present-rocc-walking-club-06-20-2022-3929
END:VEVENT

END:VCALENDAR
