BEGIN:VCALENDAR
VERSION:2.0
PRODID:-//ChamberMaster//Event Calendar 2.0//EN
METHOD:PUBLISH
X-PUBLISHED-TTL:P3D
REFRESH-INTERVAL:P3D
CALSCALE:GREGORIAN
BEGIN:VEVENT
DTSTART:20220321T120000Z
DTEND:20220321T130000Z
X-MICROSOFT-CDO-ALLDAYEVENT:FALSE
SUMMARY:Henry Ford Health Systems & HAP Present: ROCC Walking Club
DESCRIPTION:We invite our members to join the Chamber Ambassadors on the 3rd Monday of each month. We'll be walkin' and talkin' our way through downtown Royal Oak. Meet us at the Chamber at 8AM.\n\n\n\nThis month we'll be walking to the top of the Second Street Parking Garage (right across from the Chamber) to complete some everyday fitness stretches for stress relief. We will be led by Mike Twydell with Twyfit.  Please RSVP for this event.
X-ALT-DESC;FMTTYPE=text/html:<br />\n<span style="font-size: 12pt\; font-family: Arial\, sans-serif\;">We invite our members to join the Chamber Ambassadors on the 3rd Monday of each month. We&#39\;ll be walkin&#39\; and talkin&#39\; our way through downtown Royal Oak. Meet us at the Chamber at 8AM.<br />\n<br />\nThis month we&#39\;ll be walking to the top of the Second Street Parking Garage (right across from the Chamber) to complete some everyday fitness stretches for stress relief. We will be led by Mike Twydell with Twyfit.&nbsp\; Please RSVP for this event.&nbsp\;</span>
LOCATION:Starting at the Chamber Office. 200 S. Washington
UID:e.2933.3811
SEQUENCE:3
DTSTAMP:20260424T112920Z
URL:http://royaloakchamber.smartcms.site/events/details/henry-ford-health-systems-hap-present-rocc-walking-club-03-21-2022-3811
END:VEVENT

END:VCALENDAR
