BEGIN:VCALENDAR
VERSION:2.0
PRODID:-//ChamberMaster//Event Calendar 2.0//EN
METHOD:PUBLISH
X-PUBLISHED-TTL:P3D
REFRESH-INTERVAL:P3D
CALSCALE:GREGORIAN
BEGIN:VEVENT
DTSTART:20240328T230000Z
DTEND:20240329T010000Z
X-MICROSOFT-CDO-ALLDAYEVENT:FALSE
SUMMARY:Harry Potter Trivia
DESCRIPTION:Come along for a magical evening of Harry Potter trivia fun!\n\nTest your wizarding knowledge against fellow fans and snag enchanting prizes - it's free\, and all ages are welcome!\n\nTime to show off your Harry Potter expertise!
X-ALT-DESC;FMTTYPE=text/html:<div>Come along for a magical evening of Harry Potter trivia fun!</div>\n\n<div>Test your wizarding knowledge against fellow fans and snag enchanting prizes - it&#39\;s free\, and all ages are welcome!</div>\n\n<div>Time to show off your Harry Potter expertise!</div>\n
LOCATION:30955 Woodward Ave Suite 510\, Royal Oak\, MI 48073
UID:e.2933.4336
SEQUENCE:3
DTSTAMP:20260422T205729Z
URL:http://royaloakchamber.smartcms.site/events/details/harry-potter-trivia-4336
END:VEVENT

END:VCALENDAR
