BEGIN:VCALENDAR
VERSION:2.0
PRODID:-//ChamberMaster//Event Calendar 2.0//EN
METHOD:PUBLISH
X-PUBLISHED-TTL:P3D
REFRESH-INTERVAL:P3D
CALSCALE:GREGORIAN
BEGIN:VEVENT
DTSTART:20220605T160000Z
DTEND:20220605T163000Z
X-MICROSOFT-CDO-ALLDAYEVENT:FALSE
SUMMARY:Grand Re-Opening Marcos Pizza
DESCRIPTION:Join us to celebrate a Grand Re-Opening for Marcos Pizza\, with a Ribbon Cutting Ceremony!
X-ALT-DESC;FMTTYPE=text/html:Join us to celebrate a Grand Re-Opening for Marcos Pizza\, with a Ribbon Cutting Ceremony!&nbsp\;
LOCATION:Marcos Pizza 4070 Crooks Rd. Royal Oak\, MI 48073
UID:e.2933.3926
SEQUENCE:3
DTSTAMP:20260424T062102Z
URL:http://royaloakchamber.smartcms.site/events/details/grand-re-opening-marcos-pizza-3926
END:VEVENT

END:VCALENDAR
