BEGIN:VCALENDAR
VERSION:2.0
PRODID:-//ChamberMaster//Event Calendar 2.0//EN
METHOD:PUBLISH
X-PUBLISHED-TTL:P3D
REFRESH-INTERVAL:P3D
CALSCALE:GREGORIAN
BEGIN:VEVENT
DTSTART:20221019T123000Z
DTEND:20221019T140000Z
X-MICROSOFT-CDO-ALLDAYEVENT:FALSE
SUMMARY:Going Pro Talent Fund Info Session ( In-person and Zoom)
DESCRIPTION:JOIN OAKLAND COUNTY MICHIGAN WORKS! \n\nA $55 Million state grant to train your workforce!\n\n	Funding to train current employees + new hires\n	Learn what the grant covers\n	Types of eligible short term training\n	How to request the grant application\n\nIf you have registered to attend via Zoom\, here's the link \n\nhttps://us02web.zoom.us/j/88481084247?pwd=NXh1Q2FHdGFzVktjaFBTYzNGV2Fudz09 \n\n\n\nMeeting ID: 884 8108 4247\n\nPasscode: 870922
X-ALT-DESC;FMTTYPE=text/html:JOIN OAKLAND COUNTY MICHIGAN WORKS!&nbsp\;<br />\nA $55 Million state grant to train your workforce!\n<ul>\n	<li>Funding to train current employees + new hires</li>\n	<li>Learn what the grant covers</li>\n	<li>Types of eligible short term&nbsp\;training</li>\n	<li>How to request the grant application</li>\n</ul>\n<span style="font-size:14px\;"><strong><font color="#ff8c00">If you have registered to attend via Zoom\, here&#39\;s the link&nbsp\;</font></strong></span><br />\n<a href="https://us02web.zoom.us/j/88481084247?pwd=NXh1Q2FHdGFzVktjaFBTYzNGV2Fudz09">https://us02web.zoom.us/j/88481084247?pwd=NXh1Q2FHdGFzVktjaFBTYzNGV2Fudz09</a>&nbsp\;<br />\n<br />\nMeeting ID: 884 8108 4247<br />\nPasscode: 870922<br />\n<br />\n<br />\n<br />\n&nbsp\;
LOCATION:Royal Oak Chamber of Commerce 200 S. Washington Ave. Royal Oak\, MI 48067 PLEASE PARK ACROSS WASHINGTON AVE AT THE STRUCTURE. First two hours are free.
UID:e.2933.4045
SEQUENCE:3
DTSTAMP:20260424T064146Z
URL:http://royaloakchamber.smartcms.site/events/details/going-pro-talent-fund-info-session-in-person-and-zoom-4045
END:VEVENT

END:VCALENDAR
