BEGIN:VCALENDAR
VERSION:2.0
PRODID:-//ChamberMaster//Event Calendar 2.0//EN
METHOD:PUBLISH
X-PUBLISHED-TTL:P3D
REFRESH-INTERVAL:P3D
CALSCALE:GREGORIAN
BEGIN:VEVENT
DTSTART:20240417T220000Z
DTEND:20240418T000000Z
X-MICROSOFT-CDO-ALLDAYEVENT:FALSE
SUMMARY:Gluten Free Food and Beer Pairing
DESCRIPTION:Join us for a 4-course Gluten Free inspired meal\, that is then paired expertly by our staff with Gluten Free craft beer!\n\nDon't miss out on this tasty event!\n\nNo dietary subs\n\nNo refunds 48 hours before event
X-ALT-DESC;FMTTYPE=text/html:<div>Join us for a 4-course Gluten Free inspired meal\, that is then paired expertly by our staff with Gluten Free craft beer!</div>\n\n<div>Don&#39\;t miss out on this tasty event!</div>\n\n<div>No dietary subs<br />\nNo refunds 48 hours before event&nbsp\;</div>\n
LOCATION:30955 Woodward Ave Suite 510\, Royal Oak\, MI 48073
UID:e.2933.4338
SEQUENCE:3
DTSTAMP:20260422T210553Z
URL:http://royaloakchamber.smartcms.site/events/details/gluten-free-food-and-beer-pairing-4338
END:VEVENT

END:VCALENDAR
