BEGIN:VCALENDAR
VERSION:2.0
PRODID:-//ChamberMaster//Event Calendar 2.0//EN
METHOD:PUBLISH
X-PUBLISHED-TTL:P3D
REFRESH-INTERVAL:P3D
CALSCALE:GREGORIAN
BEGIN:VEVENT
DTSTART:20231007T170000Z
DTEND:20231007T200000Z
X-MICROSOFT-CDO-ALLDAYEVENT:FALSE
SUMMARY:Global Crisis. America at the Crossroads 2024- Online Conference
DESCRIPTION:Witness the pivotal moment that will shape our destiny as proud Americans. Our country is at a crossroads\, facing crises that span every facet of our lives: social\, economic\, moral\, political\, and climatic. Now\, more than ever\, is the moment to unite\, opening our hearts and minds to confront these challenges as one united nation.\n\n\n\nMark your calendars for the groundbreaking event\, "Global Crisis: America at the Crossroads 2024\," streaming live on October 7th\, 2023\, at 1PM EDT. Tune in to witness this historic turning point.\n\n\n\nToday\, every American's choice holds the key to shaping our future. \n\nhttps://creativesociety.com/global-crisis-america-at-the-crossroads-2024
X-ALT-DESC;FMTTYPE=text/html:Witness the pivotal moment that will shape our destiny as proud Americans. Our country is at a crossroads\, facing crises that span every facet of our lives: social\, economic\, moral\, political\, and climatic. Now\, more than ever\, is the moment to unite\, opening our hearts and minds to confront these challenges as one united nation.<br />\n<br />\nMark your calendars for the groundbreaking event\, &quot\;Global Crisis: America at the Crossroads 2024\,&quot\; streaming live on October 7th\, 2023\, at 1PM EDT. Tune in to witness this historic turning point.<br />\n<br />\nToday\, every American&#39\;s choice holds the key to shaping our future.&nbsp\;<br />\nhttps://creativesociety.com/global-crisis-america-at-the-crossroads-2024&nbsp\;
LOCATION:Online via link https://creativesociety.com/global-crisis-america-at-the-crossroads-2024
UID:e.2933.4180
SEQUENCE:3
DTSTAMP:20260422T224317Z
URL:http://royaloakchamber.smartcms.site/events/details/global-crisis-america-at-the-crossroads-2024-online-conference-4180
END:VEVENT

END:VCALENDAR
