BEGIN:VCALENDAR
VERSION:2.0
PRODID:-//ChamberMaster//Event Calendar 2.0//EN
METHOD:PUBLISH
X-PUBLISHED-TTL:P3D
REFRESH-INTERVAL:P3D
CALSCALE:GREGORIAN
BEGIN:VEVENT
DTSTART:20200629T140000Z
DTEND:20200824T150000Z
X-MICROSOFT-CDO-ALLDAYEVENT:FALSE
SUMMARY:Gig Jobs: Exploring Non-Traditional Employment Opportunities
DESCRIPTION:Gig Jobs: Exploring Non-Traditional Employment Opportunities - What is the gig economy? - Outlook and trends of the gig economy - Is a gig right for you? Multiple sessions to choose from. The workshops will be recorded so people can view them at a later date at OaklandCountyMIWorks.com.
X-ALT-DESC;FMTTYPE=text/html:Gig Jobs: Exploring Non-Traditional Employment Opportunities - What is the gig economy? - Outlook and trends of the gig economy - Is a gig right for you? Multiple sessions to choose from. The workshops will be recorded so people can view them at a later date at OaklandCountyMIWorks.com.
LOCATION:Webinar
UID:e.2933.3330
SEQUENCE:3
DTSTAMP:20260426T004325Z
URL:http://royaloakchamber.smartcms.site/events/details/gig-jobs-exploring-non-traditional-employment-opportunities-3330
END:VEVENT

END:VCALENDAR
