BEGIN:VCALENDAR
VERSION:2.0
PRODID:-//ChamberMaster//Event Calendar 2.0//EN
METHOD:PUBLISH
X-PUBLISHED-TTL:P3D
REFRESH-INTERVAL:P3D
CALSCALE:GREGORIAN
BEGIN:VEVENT
DTSTART:20201019T140000Z
DTEND:20201019T150000Z
X-MICROSOFT-CDO-ALLDAYEVENT:FALSE
SUMMARY:Gig Jobs: Exploring Non-Traditional Employment Opportunities
DESCRIPTION:What is the gig economy? Outlook and trends of the gig economy Is a gig right for you? Multiple sessions to choose from. The workshops will be recorded so people can view them at a later date at OaklandCountyMIWorks.com.
X-ALT-DESC;FMTTYPE=text/html:What is the gig economy? Outlook and trends of the gig economy Is a gig right for you? Multiple sessions to choose from. The workshops will be recorded so people can view them at a later date at OaklandCountyMIWorks.com.
LOCATION:Online Event
UID:e.2933.3426
SEQUENCE:3
DTSTAMP:20260425T212605Z
URL:http://royaloakchamber.smartcms.site/events/details/gig-jobs-exploring-non-traditional-employment-opportunities-10-19-2020-3426
END:VEVENT

END:VCALENDAR
