BEGIN:VCALENDAR
VERSION:2.0
PRODID:-//ChamberMaster//Event Calendar 2.0//EN
METHOD:PUBLISH
X-PUBLISHED-TTL:P3D
REFRESH-INTERVAL:P3D
CALSCALE:GREGORIAN
BEGIN:VEVENT
DTSTART:20240322T203000Z
DTEND:20240322T233000Z
X-MICROSOFT-CDO-ALLDAYEVENT:FALSE
SUMMARY:Friday Fish Fry with the Detroit Scots
DESCRIPTION:Join us for our Friday Fish Fry! Enjoy your sit down supper of fish & chips while the bagpipes play!
X-ALT-DESC;FMTTYPE=text/html:Join us for our Friday Fish Fry! Enjoy your sit down supper of fish &amp\; chips while the bagpipes play!
LOCATION:Kilgour Scottish Centre 2363 Rochester Road Troy\, MI
UID:e.2933.4313
SEQUENCE:3
DTSTAMP:20260422T193636Z
URL:http://royaloakchamber.smartcms.site/events/details/friday-fish-fry-with-the-detroit-scots-03-22-2024-4313
END:VEVENT

END:VCALENDAR
