BEGIN:VCALENDAR
VERSION:2.0
PRODID:-//ChamberMaster//Event Calendar 2.0//EN
METHOD:PUBLISH
X-PUBLISHED-TTL:P3D
REFRESH-INTERVAL:P3D
CALSCALE:GREGORIAN
BEGIN:VEVENT
DTSTART:20250222T160000Z
DTEND:20250222T170000Z
X-MICROSOFT-CDO-ALLDAYEVENT:FALSE
SUMMARY:FREE Seminar | Backyard Birding: Attracting and Identifying Local Birds
DESCRIPTION:Discover how to create a bird-friendly backyard and recognize your feathered visitors. Seminar attendees will receive a 25% OFF One Item coupon to shop that day at English Gardens! RSVP for event updates and reminders: www.englishgardens.com/event/seminar-backyard-birding-attracting-and-identifying-local-birds/
X-ALT-DESC;FMTTYPE=text/html:Discover how to create a bird-friendly backyard and recognize your feathered visitors. Seminar attendees will receive a 25% OFF One Item coupon to shop that day at English Gardens! RSVP for event updates and reminders: www.englishgardens.com/event/seminar-backyard-birding-attracting-and-identifying-local-birds/
LOCATION:English Gardens Royal Oak: 4901 Coolidge Hwy\, Royal Oak\, MI 48073
UID:e.2933.4723
SEQUENCE:3
DTSTAMP:20260419T133045Z
URL:http://royaloakchamber.smartcms.site/events/details/free-seminar-backyard-birding-attracting-and-identifying-local-birds-4723
END:VEVENT

END:VCALENDAR
