BEGIN:VCALENDAR
VERSION:2.0
PRODID:-//ChamberMaster//Event Calendar 2.0//EN
METHOD:PUBLISH
X-PUBLISHED-TTL:P3D
REFRESH-INTERVAL:P3D
CALSCALE:GREGORIAN
BEGIN:VEVENT
DTSTART:20231209T143000Z
DTEND:20231209T163000Z
X-MICROSOFT-CDO-ALLDAYEVENT:FALSE
SUMMARY:Free Event: Our Planet\, Our Future: Conversation on Climate and Environment
DESCRIPTION:Join fellow citizens for a pivotal exploration and open discussion on the climate's past\, present\, and what's to come. This is more than an event\; it's a movement towards understanding and action.\n\n?? Date: Saturday\, December 9\, 2023\n\n? Time: 9:30 AM - 11:30 AM\n\n?? Venue: 751 E Big Beaver Rd\, Troy\, MI 48083\n\nRSVP Now to Secure Your Spot! https://www.eventbrite.com/e/free-event-our-planet-our-future-conversation-on-climate-and-environment-tickets-755159822357 \n\nEvent Highlights:\n\n\n	Short Presentation: A comprehensive briefing on current national and global climate events\, focusing on the state of our environment\, particularly the oceans.\n	12\,000-Year Cycle: Explore the natural climate change cycle and its implications.\n	Solution-Based Discussion: Engage in conversation to brainstorm actionable solutions.\n	Research Insights: Information drawn from 27 years of independent multidisciplinary scientific research.\n	Future Forecast: Understanding the impact of climate and environmental changes on health\, finances\, living conditions\, and social aspects in the next 5-7 years.\n	Emergency Preparedness: Learn what to include in your emergency kit\, and tips on storage for easy access.\n\n\n?? Complimentary Refreshments: A selection of fruits\, bagels\, and coffee will be provided.
X-ALT-DESC;FMTTYPE=text/html:<p>Join fellow citizens for a pivotal exploration and open discussion on the climate&#39\;s past\, present\, and what&#39\;s to come. This is more than an event\; it&#39\;s a movement towards understanding and action.</p>\n\n<p>?? Date: Saturday\, December 9\, 2023</p>\n\n<p>? Time: 9:30 AM - 11:30 AM</p>\n\n<p>?? Venue: 751 E Big Beaver Rd\, Troy\, MI 48083</p>\n\n<p><strong>RSVP Now to Secure Your Spot!&nbsp\;</strong>https://www.eventbrite.com/e/free-event-our-planet-our-future-conversation-on-climate-and-environment-tickets-755159822357&nbsp\;</p>\n\n<p>Event Highlights:</p>\n\n<ul>\n	<li><strong>Short Presentation:&nbsp\;</strong>A comprehensive briefing on current national and global climate events\, focusing on the state of our environment\, particularly the oceans.</li>\n	<li><strong>12\,000-Year Cycle:</strong>&nbsp\;Explore the natural climate change cycle and its implications.</li>\n	<li><strong>Solution-Based Discussion:</strong>&nbsp\;Engage in conversation to brainstorm actionable solutions.</li>\n	<li><strong>Research Insights:&nbsp\;</strong>Information drawn from 27 years of independent multidisciplinary scientific research.</li>\n	<li><strong>Future Forecast:&nbsp\;</strong>Understanding the impact of climate and environmental changes on health\, finances\, living conditions\, and social aspects in the next 5-7 years.</li>\n	<li><strong>Emergency Preparedness:</strong>&nbsp\;Learn what to include in your emergency kit\, and tips on storage for easy access.</li>\n</ul>\n\n<p>?? Complimentary Refreshments: A selection of fruits\, bagels\, and coffee will be provided.</p>\n
LOCATION:?? Venue: 751 E Big Beaver Rd\, Troy\, MI 48083
UID:e.2933.4205
SEQUENCE:3
DTSTAMP:20260422T191615Z
URL:http://royaloakchamber.smartcms.site/events/details/free-event-our-planet-our-future-conversation-on-climate-and-environment-4205
END:VEVENT

END:VCALENDAR
