BEGIN:VCALENDAR
VERSION:2.0
PRODID:-//ChamberMaster//Event Calendar 2.0//EN
METHOD:PUBLISH
X-PUBLISHED-TTL:P3D
REFRESH-INTERVAL:P3D
CALSCALE:GREGORIAN
BEGIN:VEVENT
DTSTART:20241010T220000Z
DTEND:20241011T010000Z
X-MICROSOFT-CDO-ALLDAYEVENT:FALSE
SUMMARY:Founders Brewing Co. Tap Showcase
DESCRIPTION:Join us for a fun night with our friends from Founders Brewing Co!\n\nMeet a rep\, grab some swag\, and try some of their delicious beers!\n\nAll updates and the tap list will be posted on our Facebook event!
X-ALT-DESC;FMTTYPE=text/html:<div>Join us for a fun night with our friends from Founders Brewing Co!</div>\n\n<div>Meet a rep\, grab some swag\, and try some of their delicious beers!</div>\n\n<div>All updates and the tap list will be posted on our Facebook event!&nbsp\;</div>\n
LOCATION:30955 Woodward Ave.\, Royal Oak\, MI\, United States\, Michigan 48073
UID:e.2933.4565
SEQUENCE:3
DTSTAMP:20260423T092038Z
URL:http://royaloakchamber.smartcms.site/events/details/founders-brewing-co-tap-showcase-4565
END:VEVENT

END:VCALENDAR
