BEGIN:VCALENDAR
VERSION:2.0
PRODID:-//ChamberMaster//Event Calendar 2.0//EN
METHOD:PUBLISH
X-PUBLISHED-TTL:P3D
REFRESH-INTERVAL:P3D
CALSCALE:GREGORIAN
BEGIN:VEVENT
DTSTART:20220810T123000Z
DTEND:20220810T133000Z
X-MICROSOFT-CDO-ALLDAYEVENT:FALSE
SUMMARY:Finding & Bidding on Defense Contracts
DESCRIPTION:Are you interested in finding and bidding on the right federal contract opportunities? Register for a free Bid Targeting System (BTS) online account to locate your custom matched bid opportunities. Then learn about available grant funding that you can use to hire a professional proposal writer to help you win a federal contract. The Proposal Writing Service program can provide up to $10\,000 in state grant funding that can be used to have a pre-qualified professional develop a winning federal contract proposal.
X-ALT-DESC;FMTTYPE=text/html:Are you interested in finding and bidding on the right federal contract opportunities? Register for a free Bid Targeting System (BTS) online account to locate your custom matched bid opportunities. Then learn about available grant funding that you can use to hire a professional proposal writer to help you win a federal contract. The Proposal Writing Service program can provide up to $10\,000 in state grant funding that can be used to have a pre-qualified professional develop a winning federal contract proposal.
LOCATION:Online Event
UID:e.2933.4012
SEQUENCE:3
DTSTAMP:20260424T061849Z
URL:http://royaloakchamber.smartcms.site/events/details/finding-bidding-on-defense-contracts-4012
END:VEVENT

END:VCALENDAR
