BEGIN:VCALENDAR
VERSION:2.0
PRODID:-//ChamberMaster//Event Calendar 2.0//EN
METHOD:PUBLISH
X-PUBLISHED-TTL:P3D
REFRESH-INTERVAL:P3D
CALSCALE:GREGORIAN
BEGIN:VEVENT
DTSTART:20240216T000000Z
DTEND:20240216T013000Z
X-MICROSOFT-CDO-ALLDAYEVENT:FALSE
SUMMARY:February Bingo Night
DESCRIPTION:Get ready for a festive and fun-filled February Bingo Night!\n\nGather your friends and family for an evening of laughter\, joy\, and exciting bingo games!\n\nAll ages are welcome!\n\nYes\, there are plenty of prizes!\n\nWe limit this to the first 150 players! Don't miss out\, we have been maxing out on these events!
X-ALT-DESC;FMTTYPE=text/html:<div>Get ready for a festive and fun-filled February Bingo Night!</div>\n\n<div>Gather your friends and family for an evening of laughter\, joy\, and exciting bingo games!</div>\n\n<div>All ages are welcome!</div>\n\n<div>Yes\, there are plenty of prizes!</div>\n\n<div>We limit this to the first 150 players! Don&#39\;t miss out\, we have been maxing out on these events!</div>\n
LOCATION:Brown Iron Brewhouse Royal Oak
UID:e.2933.4250
SEQUENCE:3
DTSTAMP:20260422T191529Z
URL:http://royaloakchamber.smartcms.site/events/details/february-bingo-night-4250
END:VEVENT

END:VCALENDAR
