BEGIN:VCALENDAR
VERSION:2.0
PRODID:-//ChamberMaster//Event Calendar 2.0//EN
METHOD:PUBLISH
X-PUBLISHED-TTL:P3D
REFRESH-INTERVAL:P3D
CALSCALE:GREGORIAN
BEGIN:VEVENT
DTSTART;VALUE=DATE:20241019
DTEND;VALUE=DATE:20241020
TRANSP:TRANSPARENT
X-MICROSOFT-CDO-ALLDAYEVENT:TRUE
SUMMARY:Family Fall Fest
DESCRIPTION:Soak in the autumn beauty at our English Gardens Family Fall Fest a full day of family fun designed for all ages! Celebrate the season with yard games\, pumpkin decorating\, face painting\, family photo ops and a pet costume contest. It's the perfect way to create unforgettable fall memories with the whole family!
X-ALT-DESC;FMTTYPE=text/html:Soak in the autumn beauty at our English Gardens Family Fall Fest&mdash\;a full day of family fun designed for all ages! Celebrate the season with yard games\, pumpkin decorating\, face painting\, family photo ops and a pet costume contest. It&rsquo\;s the perfect way to create unforgettable fall memories with the whole family!
LOCATION:English Gardens Royal Oak 4901 Coolidge Hwy\, Royal Oak\, MI 48073
UID:e.2933.4578
SEQUENCE:3
DTSTAMP:20260423T075621Z
URL:http://royaloakchamber.smartcms.site/events/details/family-fall-fest-4578
END:VEVENT

END:VCALENDAR
