BEGIN:VCALENDAR
VERSION:2.0
PRODID:-//ChamberMaster//Event Calendar 2.0//EN
METHOD:PUBLISH
X-PUBLISHED-TTL:P3D
REFRESH-INTERVAL:P3D
CALSCALE:GREGORIAN
BEGIN:VEVENT
DTSTART:20231116T220000Z
DTEND:20231117T010000Z
X-MICROSOFT-CDO-ALLDAYEVENT:FALSE
SUMMARY:English Gardens Holiday Sip & Shop
DESCRIPTION:Immerse yourself in the English Gardens tree forest\, sipping on handcrafted drinks made with fresh herbs. Stroll through the picturesque holiday displays to the sweet serenade of live music. Whether you're just starting your holiday decorating passion or a seasoned pro\, our comprehensive demonstrations are sure to have something for everyone. Gather your friends for a relaxing night of botanical beauty and special savings! Tickets are $10 and the full cost will be donated to a charity to be announced soon. All attendees will receive a $10 OFF coupon for purchases over $40 for shopping the night of the event. Tickets available now: www.englishgardens.com/event/sip-shop/
X-ALT-DESC;FMTTYPE=text/html:Immerse yourself in the English Gardens tree forest\, sipping on handcrafted drinks made with fresh herbs. Stroll through the picturesque holiday displays to the sweet serenade of live music. Whether you&rsquo\;re just starting your holiday decorating passion or a seasoned pro\, our comprehensive demonstrations are sure to have something for everyone. Gather your friends for a relaxing night of botanical beauty and special savings! Tickets are $10 and the full cost will be donated to a charity to be announced soon. All attendees will receive a $10 OFF coupon for purchases over $40 for shopping the night of the event. Tickets available now: www.englishgardens.com/event/sip-shop/
LOCATION:English Gardens 4901 Coolidge Hwy\, Royal Oak\, MI 48073
UID:e.2933.4199
SEQUENCE:3
DTSTAMP:20260422T193636Z
URL:http://royaloakchamber.smartcms.site/events/details/english-gardens-holiday-sip-shop-4199
END:VEVENT

END:VCALENDAR
