BEGIN:VCALENDAR
VERSION:2.0
PRODID:-//ChamberMaster//Event Calendar 2.0//EN
METHOD:PUBLISH
X-PUBLISHED-TTL:P3D
REFRESH-INTERVAL:P3D
CALSCALE:GREGORIAN
BEGIN:VEVENT
DTSTART:20231021T140000Z
DTEND:20231021T190000Z
X-MICROSOFT-CDO-ALLDAYEVENT:FALSE
SUMMARY:English Gardens Family Fall Fest
DESCRIPTION:Join us for a day of family fun at the English Gardens Family Fall Fest! Soak in the autumn beauty as we celebrate the season with a full day of activities (and food truck eats!) designed for families and kids of all ages. From yard games and pumpkin decorating to family photo ops\, come create unforgettable fall memories with your family! Puppy Visits with Leader Dogs for the Blind Fall Yard Games Pumpkin Decorating Family Photo Ops Food Truck Bites
X-ALT-DESC;FMTTYPE=text/html:Join us for a day of family fun at the English Gardens Family Fall Fest! Soak in the autumn beauty as we celebrate the season with a full day of activities (and food truck eats!) designed for families and kids of all ages. From yard games and pumpkin decorating to family photo ops\, come create unforgettable fall memories with your family! Puppy Visits with Leader Dogs for the Blind Fall Yard Games Pumpkin Decorating Family Photo Ops Food Truck Bites
LOCATION:English Gardens 4901 Coolidge Hwy\, Royal Oak\, MI 48073
UID:e.2933.4193
SEQUENCE:3
DTSTAMP:20260422T224231Z
URL:http://royaloakchamber.smartcms.site/events/details/english-gardens-family-fall-fest-4193
END:VEVENT

END:VCALENDAR
