BEGIN:VCALENDAR
VERSION:2.0
PRODID:-//ChamberMaster//Event Calendar 2.0//EN
METHOD:PUBLISH
X-PUBLISHED-TTL:P3D
REFRESH-INTERVAL:P3D
CALSCALE:GREGORIAN
BEGIN:VEVENT
DTSTART:20240606T220000Z
DTEND:20240607T000000Z
X-MICROSOFT-CDO-ALLDAYEVENT:FALSE
SUMMARY:Eastern Market Brewing and Ferndale Project Tap Showcase
DESCRIPTION:Join us for a tap showcase with our friends from Eastern Marketing Brewing AND Ferndale Project!\n\nMeet a rep\, grab some swag\, and most importantly\, enjoy some tasty beer!\n\nTap list will be announced in the future on our Facebook event!
X-ALT-DESC;FMTTYPE=text/html:<div>Join us for a tap showcase with our friends from Eastern Marketing Brewing AND Ferndale Project!</div>\n\n<div>Meet a rep\, grab some swag\, and most importantly\, enjoy some tasty beer!</div>\n\n<div>Tap list will be announced in the future on our Facebook event!</div>\n
LOCATION:30955 Woodward Ave\, Unit 510 Royal Oak MI
UID:e.2933.4356
SEQUENCE:3
DTSTAMP:20260423T004402Z
URL:http://royaloakchamber.smartcms.site/events/details/eastern-market-brewing-tap-showcase-4356
END:VEVENT

END:VCALENDAR
