BEGIN:VCALENDAR
VERSION:2.0
PRODID:-//ChamberMaster//Event Calendar 2.0//EN
METHOD:PUBLISH
X-PUBLISHED-TTL:P3D
REFRESH-INTERVAL:P3D
CALSCALE:GREGORIAN
BEGIN:VEVENT
DTSTART:20201008T220000Z
DTEND:20201009T020000Z
X-MICROSOFT-CDO-ALLDAYEVENT:FALSE
SUMMARY:Drive-In Movie Fundraiser
DESCRIPTION:Benefiting the Furniture Bank of Southeast Michigan and Community Housing Network\, Gleba & Associates is one of the sponsors for a drive-in movie night fundraiser at Freedom Hill in Sterling Heights! Thursday\, October 8th Gates open at 6pm\, Show starts at 7:30pm Movie feature is Jumanji: Welcome to the Jungle (PG-13) $60 includes entry for one vehicle Purchase your tickets here: https://communityhousingnetwork.org/drive-in-movie-night-fundraiser #FallDriveInFUNdraiser
X-ALT-DESC;FMTTYPE=text/html:Benefiting the Furniture Bank of Southeast Michigan and Community Housing Network\, Gleba &amp\; Associates is one of the sponsors for a drive-in movie night fundraiser at Freedom Hill in Sterling Heights! Thursday\, October 8th Gates open at 6pm\, Show starts at 7:30pm Movie feature is Jumanji: Welcome to the Jungle (PG-13) $60 includes entry for one vehicle Purchase your tickets here: https://communityhousingnetwork.org/drive-in-movie-night-fundraiser #FallDriveInFUNdraiser
LOCATION:Freedom Hill 14900 Metro Parkway Sterling Heights\, MI 48312
UID:e.2933.3372
SEQUENCE:3
DTSTAMP:20260425T212402Z
URL:http://royaloakchamber.smartcms.site/events/details/drive-in-movie-fundraiser-3372
END:VEVENT

END:VCALENDAR
