BEGIN:VCALENDAR
VERSION:2.0
PRODID:-//ChamberMaster//Event Calendar 2.0//EN
METHOD:PUBLISH
X-PUBLISHED-TTL:P3D
REFRESH-INTERVAL:P3D
CALSCALE:GREGORIAN
BEGIN:VEVENT
DTSTART:20220726T200000Z
DTEND:20220726T230000Z
X-MICROSOFT-CDO-ALLDAYEVENT:FALSE
SUMMARY:Diversity Expo
DESCRIPTION:Diversity Business Expo. Come & support local minority\, women & veteran owned business at the Royal Oak Farmers Market!\n\n\n\nWould you like to take part in the expo? Exhibitor tables are available for $300. Exhibitor tables are exclusive to minority\, women or veteran owned businesses. \n\n\n\nSponsorship Opportunities are available from $1000-$2000. \n\n\n\nEmail HeatherZ@royaloakchamber.com with any additional questions!\n\n\n\nClick on the registration tab to be an attendee.
X-ALT-DESC;FMTTYPE=text/html:<br />\n<span style="font-size:16px\;"><span style="font-family:arial\;">Diversity Business Expo. Come &amp\; support local minority\, women &amp\; veteran owned business at the Royal Oak Farmers Market!<br />\n<br />\nWould you like to take part in the expo? Exhibitor tables are available for $300. Exhibitor tables are exclusive to minority\, women or veteran owned businesses.&nbsp\;<br />\n<br />\nSponsorship Opportunities are available from $1000-$2000.&nbsp\;<br />\n<br />\nEmail HeatherZ@royaloakchamber.com with any additional questions!<br />\n<br />\nClick on the registration tab to be an attendee.&nbsp\;</span></span>
LOCATION:Royal Oak Farmers Market 316 E 11 Mile Rd Royal Oak\, MI 48067
UID:e.2933.3982
SEQUENCE:3
DTSTAMP:20260424T043033Z
URL:http://royaloakchamber.smartcms.site/events/details/diversity-expo-3982
END:VEVENT

END:VCALENDAR
