BEGIN:VCALENDAR
VERSION:2.0
PRODID:-//ChamberMaster//Event Calendar 2.0//EN
METHOD:PUBLISH
X-PUBLISHED-TTL:P3D
REFRESH-INTERVAL:P3D
CALSCALE:GREGORIAN
BEGIN:VEVENT
DTSTART:20240730T200000Z
DTEND:20240730T223000Z
X-MICROSOFT-CDO-ALLDAYEVENT:FALSE
SUMMARY:Diversity Business Expo
DESCRIPTION:Join us for a Diversity Business Expo featuring: Minority\, Women\, Veteran & LGBTQ Owned Businesses at the Royal Oak Farmers Market! This event is being brought to you in partnership with our neighboring Chambers: The Birmingham Bloomfield Chamber\, The Michigan Hispanic Chamber\, The Chaldean American Chamber\, Michigan India Chamber\, Connect Macomb\, Greater Farmington Area\, Detroit Regional Chamber & Troy Chamber of Commerce!\n\n\n\n\n\nWould you like to take part in the expo? Exhibitor tables are open to Minority\, Women\, Veteran & LGBTQ Owned businesses that are in the Chamber. Tables are available for $300\, included in the cost: one 6' table and two chairs. Electricity is provided. Please note if you'll need electricity when you register.  Click on the "register" tab to sign up to be an exhibitor.\n\n\n\nThere is no charge to attend the event as a patron. \n\n\n\nAre you looking to show your support towards the Minority\, Women\, Veteran & LGBTQ business community? Sponsorship Opportunities are available starting at $1000. You do not have to be a Minority\, Women\, Veteran or LGBTQ owned business to sponsor the event but you do need to be a Chamber member. \n\nEmail HeatherZ@royaloakchamber.com with sponsorship inquiries.
X-ALT-DESC;FMTTYPE=text/html:<br />\n<span style="font-family:arial\;"><span style="font-size: 16px\;">Join us for a </span><em style="font-family: arial\; font-size: 16px\;">Diversity Business Expo</em><span style="font-size: 16px\;"> featuring: Minority\, Women\, Veteran &amp\; LGBTQ Owned Businesses at the Royal Oak Farmers Market!&nbsp\;This event is being brought to you in partnership with our neighboring Chambers: The Birmingham Bloomfield Chamber\, The Michigan Hispanic Chamber\, The Chaldean American Chamber\, Michigan India Chamber\, Connect Macomb\, Greater Farmington Area\, Detroit Regional Chamber &amp\; Troy Chamber of Commerce!</span><br />\n<br />\n<br />\n<span style="font-size: 16px\;">Would you like to take part in the expo? </span></span><span style="font-size: 12pt\; font-family: Arial\, sans-serif\; background-image: initial\; background-position: initial\; background-size: initial\; background-repeat: initial\; background-attachment: initial\; background-origin: initial\; background-clip: initial\;">Exhibitor tables are open to </span><span style="font-family: arial\; font-size: 16px\;">Minority\, Women\, Veteran &amp\; LGBTQ Owned businesses that are in the Chamber.</span><span style="font-size: 12pt\; font-family: Arial\, sans-serif\; background-image: initial\; background-position: initial\; background-size: initial\; background-repeat: initial\; background-attachment: initial\; background-origin: initial\; background-clip: initial\;">&nbsp\;Tables&nbsp\;</span><span style="font-size: 12pt\; font-family: Arial\, sans-serif\; background-image: initial\; background-position: initial\; background-size: initial\; background-repeat: initial\; background-attachment: initial\; background-origin: initial\; background-clip: initial\;">are available for $300\, included in the cost: one 6&#39\; table and two chairs. Electricity is provided. Please note if you&#39\;ll need electricity when you register.&nbsp\;</span><span style="font-family:arial\;"><span style="font-size: 16px\;">&nbsp\;Click on the &quot\;register&quot\; tab to sign up to be an exhibitor.<br />\n<br />\nThere is no charge to attend the event as a patron.&nbsp\;</span><br />\n<br />\n<span style="font-size: 16px\;">Are you looking to show your support towards the Minority\, Women\, Veteran &amp\; LGBTQ business community?&nbsp\;Sponsorship Opportunities are available starting at $1000. You do not have to be a&nbsp\;</span></span><span style="font-family: arial\; font-size: 16px\;">Minority\, Women\, Veteran or LGBTQ owned business&nbsp\;</span><span style="font-family:arial\;"><span style="font-size: 16px\;">to sponsor the event but you do need to be a Chamber member.&nbsp\;</span><br />\n<span style="font-size: 16px\;">Email HeatherZ@royaloakchamber.com with sponsorship inquiries.&nbsp\;</span></span>
LOCATION:Royal Oak Farmers Market 316 E 11 Mile Rd Royal Oak\, MI 48067
UID:e.2933.4368
SEQUENCE:3
DTSTAMP:20260423T022629Z
URL:http://royaloakchamber.smartcms.site/events/details/diversity-business-expo-4368
END:VEVENT

END:VCALENDAR
