BEGIN:VCALENDAR
VERSION:2.0
PRODID:-//ChamberMaster//Event Calendar 2.0//EN
METHOD:PUBLISH
X-PUBLISHED-TTL:P3D
REFRESH-INTERVAL:P3D
CALSCALE:GREGORIAN
BEGIN:VEVENT
DTSTART:20241121T000000Z
DTEND:20241121T020000Z
X-MICROSOFT-CDO-ALLDAYEVENT:FALSE
SUMMARY:Disney Themed Trivia
DESCRIPTION:Get ready to dive into a magical evening of Disney trivia\, with our pals at Quizzo!\n\n \n\nBattle it out with fellow Disney aficionados to prove who's the ultimate Disney guru!\n\n \n\nThis event is free and open to all ages!\n\n \n\nAny updates will be made on our Facebook event!!
X-ALT-DESC;FMTTYPE=text/html:<div>Get ready to dive into a magical evening of Disney trivia\, with our pals at Quizzo!<br />\n&nbsp\;</div>\n\n<div>Battle it out with fellow Disney aficionados to prove who&#39\;s the ultimate Disney guru!<br />\n&nbsp\;</div>\n\n<div>This event is free and open to all ages!<br />\n&nbsp\;</div>\n\n<div>Any updates will be made on our Facebook event!!</div>\n
LOCATION:30955 Woodward Ave Unit 510 Royal Oak\, MI 48073
UID:e.2933.4411
SEQUENCE:3
DTSTAMP:20260423T143546Z
URL:http://royaloakchamber.smartcms.site/events/details/disney-themed-trivia-4411
END:VEVENT

END:VCALENDAR
