BEGIN:VCALENDAR
VERSION:2.0
PRODID:-//ChamberMaster//Event Calendar 2.0//EN
METHOD:PUBLISH
X-PUBLISHED-TTL:P3D
REFRESH-INTERVAL:P3D
CALSCALE:GREGORIAN
BEGIN:VEVENT
DTSTART:20211027T220000Z
DTEND:20211027T230000Z
X-MICROSOFT-CDO-ALLDAYEVENT:FALSE
SUMMARY:Direct Financial Webinar- Retire Confidently Financial Forum
DESCRIPTION:JK & Jonathan Whitehouse CFF \, Kris Daudelin & Lisa Cruser\, Financial Advisors\, CUSO Financial Services\, L.P.* Last year was one of the most challenging years of uncertainty and unrest in recent history. Along with the pandemic\, we had regulatory changes with the SECURE Act and CARES Act\, as well as stimulus money from the government. The country appears to be heading for recovery\, but the recent events in the economy have impacted many individuals' retirement and savings accounts. As a result\, you may have questions about your retirement and savings plans. Understanding the current economic environment and applying fundamental financial strategies may help you feel more confident about your future and ability to retire. Join us with your questions for our experienced panel of CFS Financial Advisors. The advisors will share their insight and knowledge regarding your financial circumstances. Take this opportunity to review your plans\, adjust if necessary\, and get back on track after a very challenging year. *Investments are offered through CUSO Financial Services\, L.P. (CFS) and are not NCUA/NCUSIF insured\, are not guarantees or obligations of the credit union\, and may lose value. https://attendee.gotowebinar.com/register/4400581301399824396
X-ALT-DESC;FMTTYPE=text/html:JK &amp\; Jonathan Whitehouse CFF&reg\;\, Kris Daudelin &amp\; Lisa Cruser\, Financial Advisors\, CUSO Financial Services\, L.P.* Last year was one of the most challenging years of uncertainty and unrest in recent history. Along with the pandemic\, we had regulatory changes with the SECURE Act and CARES Act\, as well as stimulus money from the government. The country appears to be heading for recovery\, but the recent events in the economy have impacted many individuals&rsquo\; retirement and savings accounts. As a result\, you may have questions about your retirement and savings plans. Understanding the current economic environment and applying fundamental financial strategies may help you feel more confident about your future and ability to retire. Join us with your questions for our experienced panel of CFS Financial Advisors. The advisors will share their insight and knowledge regarding your financial circumstances. Take this opportunity to review your plans\, adjust if necessary\, and get back on track after a very challenging year. *Investments are offered through CUSO Financial Services\, L.P. (CFS) and are not NCUA/NCUSIF insured\, are not guarantees or obligations of the credit union\, and may lose value. https://attendee.gotowebinar.com/register/4400581301399824396
LOCATION:Online
UID:e.2933.3852
SEQUENCE:3
DTSTAMP:20260425T001118Z
URL:http://royaloakchamber.smartcms.site/events/details/direct-financial-webinar-retire-confidently-financial-forum-3852
END:VEVENT

END:VCALENDAR
