BEGIN:VCALENDAR
VERSION:2.0
PRODID:-//ChamberMaster//Event Calendar 2.0//EN
METHOD:PUBLISH
X-PUBLISHED-TTL:P3D
REFRESH-INTERVAL:P3D
CALSCALE:GREGORIAN
BEGIN:VEVENT
DTSTART:20210415T160000Z
DTEND:20210415T170000Z
X-MICROSOFT-CDO-ALLDAYEVENT:FALSE
SUMMARY:Direct Financial Webinar – Maximize Your Money – Ask a Financial Counselor
DESCRIPTION:Direct Financial   Online Amanda Seeholzer & Emily Phelps\, Financial Counselors (JJ) Have you ever wondered if there is a better way to manage your finances? Our Financial Counselors have helped hundreds of people to resolve their financial challenges and reach their goals. This webinar is designed for you to ask questions regarding finances on a wide variety of topics\, such as: credit\, debt management\, budgeting\, savings\, account structure\, and overall financial management. Learn how to make the most out of your money. Bring your questions to our experts for a candid Q & A session. This discussion will provide tips and information to improve your financial future.
X-ALT-DESC;FMTTYPE=text/html:Direct Financial &ndash\; Online Amanda Seeholzer &amp\; Emily Phelps\, Financial Counselors (JJ) Have you ever wondered if there is a better way to manage your finances? Our Financial Counselors have helped hundreds of people to resolve their financial challenges and reach their goals. This webinar is designed for you to ask questions regarding finances on a wide variety of topics\, such as: credit\, debt management\, budgeting\, savings\, account structure\, and overall financial management. Learn how to make the most out of your money. Bring your questions to our experts for a candid Q &amp\; A session. This discussion will provide tips and information to improve your financial future.
LOCATION:Direct Financial-Online
UID:e.2933.3778
SEQUENCE:3
DTSTAMP:20260425T110817Z
URL:http://royaloakchamber.smartcms.site/events/details/direct-financial-webinar-maximize-your-money-ask-a-financial-counselor-3778
END:VEVENT

END:VCALENDAR
