BEGIN:VCALENDAR
VERSION:2.0
PRODID:-//ChamberMaster//Event Calendar 2.0//EN
METHOD:PUBLISH
X-PUBLISHED-TTL:P3D
REFRESH-INTERVAL:P3D
CALSCALE:GREGORIAN
BEGIN:VEVENT
DTSTART:20211021T160000Z
DTEND:20211021T163000Z
X-MICROSOFT-CDO-ALLDAYEVENT:FALSE
SUMMARY:Direct Financial Webinar – Are You Ready to Buy a Home?
DESCRIPTION:DF   Online Emily Phelps\, Financial Counselor & Christin Canter\, Senior Lending Officer Thinking about buying a home is exciting! The key to beginning your journey lies in understanding the basics   your credit\, how much can you afford\, the process and options. Your current financial situation significantly influences your ability to buy and how much you'll pay. Simple techniques to improve your credit could save you money. Join our experts as they prepare you to buy your home. https://attendee.gotowebinar.com/register/389868547505084684
X-ALT-DESC;FMTTYPE=text/html:DF &ndash\; Online Emily Phelps\, Financial Counselor &amp\; Christin Canter\, Senior Lending Officer Thinking about buying a home is exciting! The key to beginning your journey lies in understanding the basics &ndash\; your credit\, how much can you afford\, the process and options. Your current financial situation significantly influences your ability to buy and how much you&rsquo\;ll pay. Simple techniques to improve your credit could save you money. Join our experts as they prepare you to buy your home. https://attendee.gotowebinar.com/register/389868547505084684
LOCATION:Online
UID:e.2933.3851
SEQUENCE:3
DTSTAMP:20260425T001104Z
URL:http://royaloakchamber.smartcms.site/events/details/direct-financial-webinar-are-you-ready-to-buy-a-home-3851
END:VEVENT

END:VCALENDAR
