BEGIN:VCALENDAR
VERSION:2.0
PRODID:-//ChamberMaster//Event Calendar 2.0//EN
METHOD:PUBLISH
X-PUBLISHED-TTL:P3D
REFRESH-INTERVAL:P3D
CALSCALE:GREGORIAN
BEGIN:VEVENT
DTSTART:20240725T190000Z
DTEND:20240725T230000Z
X-MICROSOFT-CDO-ALLDAYEVENT:FALSE
SUMMARY:Detroit Walk to End Alzheimer's Parking Lot Party!
DESCRIPTION:Join the Alzheimer's Association for a Parking Lot Party! \n\n\n\nGet ready to party with a purpose! ?? The Detroit Walk to End Alzheimer's is hosting a Parking Lot Party\, and you won't want to miss it!\n\nWhen: Thursday\, July 25 | 3-7 p.m.\n\nWhere: Alzheimer's Association\, 25200 Telegraph Rd.\, Suite 100\, Southfield\, MI 48033\n\nBring your friends and family for a fun-filled afternoon with:\n\n	Delicious Food Trucks ??\n	Exciting Yard Games ??\n	Tons of Fun for Kids ??\n\nAnd don't forget the amazing music provided by DJ Spins! ??\n\nCome learn more about the Alzheimer's Association and the incredible resources we offer. Let's come together\, have fun\, and support a great cause. See you there! ??
X-ALT-DESC;FMTTYPE=text/html:<span style="font-family:times new roman\,serif"><span style="font-size:12.0pt">&nbsp\;<strong>Join the Alzheimer&rsquo\;s Association for a Parking Lot Party!</strong>&nbsp\;</span></span><br />\n<br />\n<span style="font-family:times new roman\,serif"><span style="font-size:12.0pt">Get ready to party with a purpose! </span></span><span style="font-family:segoe ui emoji\,sans-serif"><span style="font-size:12.0pt">??</span></span><span style="font-family:times new roman\,serif"><span style="font-size:12.0pt"> The Detroit Walk to End Alzheimer&#39\;s is hosting a Parking Lot Party\, and you won&#39\;t want to miss it!</span></span><br />\n<span style="font-family:times new roman\,serif"><span style="font-size:12.0pt"><strong>When:</strong> Thursday\, July 25 | 3-7 p.m.</span></span><br />\n<span style="font-family:times new roman\,serif"><span style="font-size:12.0pt"><strong>Where:</strong> Alzheimer&#39\;s Association\, 25200 Telegraph Rd.\, Suite 100\, Southfield\, MI 48033</span></span><br />\n<span style="font-family:times new roman\,serif"><span style="font-size:12.0pt">Bring your friends and family for a fun-filled afternoon with:</span></span>\n<ul>\n	<li><span style="font-family:times new roman\,serif"><span style="font-size:12.0pt">Delicious <strong>Food Trucks</strong> </span></span><span style="font-family:segoe ui emoji\,sans-serif"><span style="font-size:12.0pt">??</span></span></li>\n	<li><span style="font-family:times new roman\,serif"><span style="font-size:12.0pt">Exciting <strong>Yard Games</strong> </span></span><span style="font-family:segoe ui emoji\,sans-serif"><span style="font-size:12.0pt">??</span></span></li>\n	<li><span style="font-family:times new roman\,serif"><span style="font-size:12.0pt">Tons of <strong>Fun for Kids</strong> </span></span><span style="font-family:segoe ui emoji\,sans-serif"><span style="font-size:12.0pt">??</span></span></li>\n</ul>\n<span style="font-family:times new roman\,serif"><span style="font-size:12.0pt">And don&#39\;t forget the amazing music provided by <strong>DJ Spins</strong>! </span></span><span style="font-family:segoe ui emoji\,sans-serif"><span style="font-size:12.0pt">??</span></span><br />\n<span style="font-family:times new roman\,serif"><span style="font-size:12.0pt">Come learn more about the Alzheimer&#39\;s Association and the incredible resources we offer. Let&#39\;s come together\, have fun\, and support a great cause. See you there! </span></span><span style="font-family:segoe ui emoji\,sans-serif"><span style="font-size:12.0pt">??</span></span>
LOCATION:Alzheimer's Association 25200 Telegraph Road Southfield\, MI 48033
UID:e.2933.4395
SEQUENCE:3
DTSTAMP:20260423T022724Z
URL:http://royaloakchamber.smartcms.site/events/details/detroit-walk-to-end-alzheimer-s-parking-lot-party-4395
END:VEVENT

END:VCALENDAR
