BEGIN:VCALENDAR
VERSION:2.0
PRODID:-//ChamberMaster//Event Calendar 2.0//EN
METHOD:PUBLISH
X-PUBLISHED-TTL:P3D
REFRESH-INTERVAL:P3D
CALSCALE:GREGORIAN
BEGIN:VEVENT
DTSTART:20240313T220000Z
DTEND:20240314T000000Z
X-MICROSOFT-CDO-ALLDAYEVENT:FALSE
SUMMARY:Detroit Themed Beer Pairing
DESCRIPTION:Ready to dive into a culinary adventure that screams Motown pride? Our chef has whipped up a tantalizing 4-course meal with a Detroit twist that'll have you dancing in your seat!\n\nAnd what's a delicious meal without some sips to wash it down? We've got you covered with hand-picked craft beers that'll leave your taste buds singing.\n\nSo come on down and join the 313 celebration in style!
X-ALT-DESC;FMTTYPE=text/html:<div>Ready to dive into a culinary adventure that screams Motown pride? Our chef has whipped up a tantalizing 4-course meal with a Detroit twist that&#39\;ll have you dancing in your seat!</div>\n\n<div>And what&#39\;s a delicious meal without some sips to wash it down? We&#39\;ve got you covered with hand-picked craft beers that&#39\;ll leave your taste buds singing.</div>\n\n<div>So come on down and join the 313 celebration in style!</div>\n
LOCATION:Brown Iron Brewhouse Royal Oak
UID:e.2933.4254
SEQUENCE:3
DTSTAMP:20260422T192122Z
URL:http://royaloakchamber.smartcms.site/events/details/detroit-themed-beer-pairing-4254
END:VEVENT

END:VCALENDAR
