BEGIN:VCALENDAR
VERSION:2.0
PRODID:-//ChamberMaster//Event Calendar 2.0//EN
METHOD:PUBLISH
X-PUBLISHED-TTL:P3D
REFRESH-INTERVAL:P3D
CALSCALE:GREGORIAN
BEGIN:VEVENT
DTSTART:20240929T113000Z
DTEND:20240929T160000Z
X-MICROSOFT-CDO-ALLDAYEVENT:FALSE
SUMMARY:Detroit Lung Force Walk
DESCRIPTION:Join us at the Detroit Lung Force Walk and make every step count in the fight against lung disease! Whether you're walking in honor of a loved one\, as a survivor\, or to support clean air and lung health\, your participation fuels our mission. Register today and take strides toward a world free of lung disease. Together\, we can breathe easier!
X-ALT-DESC;FMTTYPE=text/html:Join us at the Detroit Lung Force Walk and make every step count in the fight against lung disease! Whether you&#39\;re walking in honor of a loved one\, as a survivor\, or to support clean air and lung health\, your participation fuels our mission. <a href="https://action.lung.org/site/TR?fr_id=26939&amp\;pg=entry" rel="noopener" target="_new">Register today</a> and take strides toward a world free of lung disease. Together\, we can breathe easier!
LOCATION:Detroit Zoo 8450 W 10 Mile Rd Royal Oak\, MI 48067
UID:e.2933.4416
SEQUENCE:3
DTSTAMP:20260423T074541Z
URL:http://royaloakchamber.smartcms.site/events/details/detroit-lung-force-walk-4416
END:VEVENT

END:VCALENDAR
