BEGIN:VCALENDAR
VERSION:2.0
PRODID:-//ChamberMaster//Event Calendar 2.0//EN
METHOD:PUBLISH
X-PUBLISHED-TTL:P3D
REFRESH-INTERVAL:P3D
CALSCALE:GREGORIAN
BEGIN:VEVENT
DTSTART:20231018T220000Z
DTEND:20231019T000000Z
X-MICROSOFT-CDO-ALLDAYEVENT:FALSE
SUMMARY:Dental Implant Seminar
DESCRIPTION:Discover the future of your smile! Join us for our Dental Implant Seminar on October 18th\, 6pm-8pm.\n\n\n\nExpert insights from Dr. Alvin Daboul & Dr. Mustapha Hotait\, Patient Testimonials\, Q&A's and Complimentary Consultations and CBCT scans. Refreshments provided! Limited seats available! Register today to attend!\n\n \n\nGive us at (248) 629-1830 or email cheld@northoaksdental.com for more information
X-ALT-DESC;FMTTYPE=text/html:<div>Discover the future of your smile! Join us for our Dental Implant Seminar on October 18th\, 6pm-8pm.<br />\n<br />\nExpert insights from Dr. Alvin Daboul &amp\; Dr. Mustapha Hotait\, Patient Testimonials\, Q&amp\;A&rsquo\;s and Complimentary Consultations and CBCT scans. Refreshments provided! Limited seats available! Register today to attend!<br />\n&nbsp\;</div>\n\n<div>Give us at (248) 629-1830 or email cheld@northoaksdental.com for more information</div>\n
LOCATION:3213 Rochester Road\, Royal Oak\, MI 48073
UID:e.2933.4181
SEQUENCE:3
DTSTAMP:20260422T210104Z
URL:http://royaloakchamber.smartcms.site/events/details/dental-implant-seminar-4181
END:VEVENT

END:VCALENDAR
