BEGIN:VCALENDAR
VERSION:2.0
PRODID:-//ChamberMaster//Event Calendar 2.0//EN
METHOD:PUBLISH
X-PUBLISHED-TTL:P3D
REFRESH-INTERVAL:P3D
CALSCALE:GREGORIAN
BEGIN:VEVENT
DTSTART:20220606T120000Z
DTEND:20220606T203000Z
X-MICROSOFT-CDO-ALLDAYEVENT:FALSE
SUMMARY:Defense & Aerospace Conference
DESCRIPTION:Join the discussion with over 200+ colleagues and peers within Oakland County as we explore strategies to optimize manufacturing and engineering initiatives in the Michigan aerospace and defense industry with this full day\, thought-provoking content and unique networking opportunity at the Oakland County Aerospace and Defense Conference.
X-ALT-DESC;FMTTYPE=text/html:Join the discussion with over 200+ colleagues and peers within Oakland County as we explore strategies to optimize manufacturing and engineering initiatives in the Michigan aerospace and defense industry with this full day\, thought-provoking content and unique networking opportunity at the Oakland County Aerospace and Defense Conference.
LOCATION:The Kingsley Bloomfield Hills - a Doubletree by Hilton 39475 Woodward Avenue Bloomfield Hills\, MI 48304
UID:e.2933.3985
SEQUENCE:3
DTSTAMP:20260424T112835Z
URL:http://royaloakchamber.smartcms.site/events/details/defense-aerospace-conference-3985
END:VEVENT

END:VCALENDAR
