BEGIN:VCALENDAR
VERSION:2.0
PRODID:-//ChamberMaster//Event Calendar 2.0//EN
METHOD:PUBLISH
X-PUBLISHED-TTL:P3D
REFRESH-INTERVAL:P3D
CALSCALE:GREGORIAN
BEGIN:VEVENT
DTSTART:20241220T000000Z
DTEND:20241220T013000Z
X-MICROSOFT-CDO-ALLDAYEVENT:FALSE
SUMMARY:December Bingo Night
DESCRIPTION:Get ready for a festive and fun-filled December Bingo Night!\n\nGather your friends and family for an evening of laughter\, joy\, and exciting bingo games!\n\nAll ages are welcome!\n\nYes\, there are plenty of prizes!\n\nFree to play!
X-ALT-DESC;FMTTYPE=text/html:<div>Get ready for a festive and fun-filled December Bingo Night!</div>\n\n<div>Gather your friends and family for an evening of laughter\, joy\, and exciting bingo games!</div>\n\n<div>All ages are welcome!</div>\n\n<div>Yes\, there are plenty of prizes!</div>\n\n<div>Free to play!&nbsp\;</div>\n
LOCATION:30955 Woodward Ave\, unit 510 Royal Oak MI
UID:e.2933.4582
SEQUENCE:3
DTSTAMP:20260423T175029Z
URL:http://royaloakchamber.smartcms.site/events/details/december-bingo-night-4582
END:VEVENT

END:VCALENDAR
