BEGIN:VCALENDAR
VERSION:2.0
PRODID:-//ChamberMaster//Event Calendar 2.0//EN
METHOD:PUBLISH
X-PUBLISHED-TTL:P3D
REFRESH-INTERVAL:P3D
CALSCALE:GREGORIAN
BEGIN:VEVENT
DTSTART:20201007T160000Z
DTEND:20201007T170000Z
X-MICROSOFT-CDO-ALLDAYEVENT:FALSE
SUMMARY:Dealing with Anxiety During a Pandemic - Zoom
DESCRIPTION:A conversation with Jill Gleba and Gretchen Marsh\, Ph.D. about handling anxiety and mental wellness in a time of a global pandemic. Call our office or email Michelle for more information\, you can register here: https://us02web.zoom.us/meeting/register/tZElcOChrTkvGtyI36LK7Qcj0zmTDz9e8iEO
X-ALT-DESC;FMTTYPE=text/html:A conversation with Jill Gleba and Gretchen Marsh\, Ph.D. about handling anxiety and mental wellness in a time of a global pandemic. Call our office or email Michelle for more information\, you can register here: https://us02web.zoom.us/meeting/register/tZElcOChrTkvGtyI36LK7Qcj0zmTDz9e8iEO
LOCATION:Your Screen - Zoom
UID:e.2933.3371
SEQUENCE:3
DTSTAMP:20260425T212250Z
URL:http://royaloakchamber.smartcms.site/events/details/dealing-with-anxiety-during-a-pandemic-zoom-3371
END:VEVENT

END:VCALENDAR
