BEGIN:VCALENDAR
VERSION:2.0
PRODID:-//ChamberMaster//Event Calendar 2.0//EN
METHOD:PUBLISH
X-PUBLISHED-TTL:P3D
REFRESH-INTERVAL:P3D
CALSCALE:GREGORIAN
BEGIN:VEVENT
DTSTART:20240615T140000Z
DTEND:20240615T150000Z
X-MICROSOFT-CDO-ALLDAYEVENT:FALSE
SUMMARY:Create a Pollinator Garden (Free Seminar)
DESCRIPTION:Dive into the art of cultivating a thriving ecosystem that attracts and supports essential pollinators\, right in your backyard! RSVP to this free seminar here: https://www.englishgardens.com/event/seminar-create-a-pollinator-garden/
X-ALT-DESC;FMTTYPE=text/html:Dive into the art of cultivating a thriving ecosystem that attracts and supports essential pollinators\, right in your backyard! RSVP to this free seminar here: https://www.englishgardens.com/event/seminar-create-a-pollinator-garden/
LOCATION:English Gardens Royal Oak 4901 Coolidge Hwy\, Royal Oak\, MI 48073
UID:e.2933.4377
SEQUENCE:3
DTSTAMP:20260423T004320Z
URL:http://royaloakchamber.smartcms.site/events/details/create-a-pollinator-garden-free-seminar-4377
END:VEVENT

END:VCALENDAR
