BEGIN:VCALENDAR
VERSION:2.0
PRODID:-//ChamberMaster//Event Calendar 2.0//EN
METHOD:PUBLISH
X-PUBLISHED-TTL:P3D
REFRESH-INTERVAL:P3D
CALSCALE:GREGORIAN
BEGIN:VEVENT
DTSTART:20240113T141500Z
DTEND:20240113T163000Z
X-MICROSOFT-CDO-ALLDAYEVENT:FALSE
SUMMARY:Conversation on Climate and Environment. Our Planet\, Our Future & 12000 Years Cycle - Free Event
DESCRIPTION:Join fellow neighbors for a pivotal exploration and open discussion on the climate's past present and what's to come. This is more than an event\; it's a movement towards understanding and action.\n\n?? Date: Saturday January 13\, 2023\n\n? Time: 9:15 AM - 11:30 AM\n\n\n	9:15AM - 10 AM Bagel and Fruit / Coffee / OJ Breakfast and Networking\n	10 AM - 10:45 AM Presentation\n	10:45 AM - 11:30 AM Open Discussion with Attendees\, Next Steps
X-ALT-DESC;FMTTYPE=text/html:<p>Join fellow neighbors for a pivotal exploration and open discussion on the climate&#39\;s past present and what&#39\;s to come. This is more than an event\; it&#39\;s a movement towards understanding and action.</p>\n\n<p>?? Date: Saturday January 13\, 2023</p>\n\n<p>? Time: 9:15 AM - 11:30 AM</p>\n\n<ul>\n	<li>9:15AM - 10 AM Bagel and Fruit / Coffee / OJ Breakfast and Networking</li>\n	<li>10 AM - 10:45 AM Presentation</li>\n	<li>10:45 AM - 11:30 AM Open Discussion with Attendees\, Next Steps</li>\n</ul>\n
LOCATION:Chief Financial Credit Union - Community Room\, 751 E Big Beaver Rd\, Troy\, United States
UID:e.2933.4232
SEQUENCE:3
DTSTAMP:20260422T161520Z
URL:http://royaloakchamber.smartcms.site/events/details/conversation-on-climate-and-environment-our-planet-our-future-12000-years-cycle-free-event-4232
END:VEVENT

END:VCALENDAR
