BEGIN:VCALENDAR
VERSION:2.0
PRODID:-//ChamberMaster//Event Calendar 2.0//EN
METHOD:PUBLISH
X-PUBLISHED-TTL:P3D
REFRESH-INTERVAL:P3D
CALSCALE:GREGORIAN
BEGIN:VEVENT
DTSTART:20200818T170000Z
DTEND:20200818T180000Z
X-MICROSOFT-CDO-ALLDAYEVENT:FALSE
SUMMARY:Consumers have Changed\, Will You?
DESCRIPTION:Market Research Basics During the Coronavirus Crisis While it's impossible to predict what the "new normal" will look like once your business reopens during the coronavirus\, understanding your customers' expectations\, incomes\, spending habits and behaviors will be key in these uncertain times. This workshop will examine changes in consumer behavior for business to consumer establishments (B2C) as a result of the pandemic\, which behaviors may stick long term and market research resources available to you to help you attract and retain customers. This workshop is designed to help existing businesses. Cost: Free | Registration Required
X-ALT-DESC;FMTTYPE=text/html:Market Research Basics During the Coronavirus Crisis While it&rsquo\;s impossible to predict what the &ldquo\;new normal&rdquo\; will look like once your business reopens during the coronavirus\, understanding your customers&rsquo\; expectations\, incomes\, spending habits and behaviors will be key in these uncertain times. This workshop will examine changes in consumer behavior for business to consumer establishments (B2C) as a result of the pandemic\, which behaviors may stick long term and market research resources available to you to help you attract and retain customers. This workshop is designed to help existing businesses. Cost: Free | Registration Required
LOCATION:Webinar
UID:e.2933.3347
SEQUENCE:3
DTSTAMP:20260426T003957Z
URL:http://royaloakchamber.smartcms.site/events/details/consumers-have-changed-will-you-3347
END:VEVENT

END:VCALENDAR
